BEGIN:VCALENDAR
VERSION:2.0
PRODID:-//Pirouette Dance Academy - ECPv6.15.20//NONSGML v1.0//EN
CALSCALE:GREGORIAN
METHOD:PUBLISH
X-ORIGINAL-URL:https://pirouettedanceacademy.com
X-WR-CALDESC:Events for Pirouette Dance Academy
REFRESH-INTERVAL;VALUE=DURATION:PT1H
X-Robots-Tag:noindex
X-PUBLISHED-TTL:PT1H
BEGIN:VTIMEZONE
TZID:America/New_York
BEGIN:DAYLIGHT
TZOFFSETFROM:-0500
TZOFFSETTO:-0400
TZNAME:EDT
DTSTART:20240310T070000
END:DAYLIGHT
BEGIN:STANDARD
TZOFFSETFROM:-0400
TZOFFSETTO:-0500
TZNAME:EST
DTSTART:20241103T060000
END:STANDARD
BEGIN:DAYLIGHT
TZOFFSETFROM:-0500
TZOFFSETTO:-0400
TZNAME:EDT
DTSTART:20250309T070000
END:DAYLIGHT
BEGIN:STANDARD
TZOFFSETFROM:-0400
TZOFFSETTO:-0500
TZNAME:EST
DTSTART:20251102T060000
END:STANDARD
BEGIN:DAYLIGHT
TZOFFSETFROM:-0500
TZOFFSETTO:-0400
TZNAME:EDT
DTSTART:20260308T070000
END:DAYLIGHT
BEGIN:STANDARD
TZOFFSETFROM:-0400
TZOFFSETTO:-0500
TZNAME:EST
DTSTART:20261101T060000
END:STANDARD
END:VTIMEZONE
BEGIN:VEVENT
DTSTART;VALUE=DATE:20250902
DTEND;VALUE=DATE:20251012
DTSTAMP:20260419T235602
CREATED:20240923T133948Z
LAST-MODIFIED:20250909T200400Z
UID:10609-1756771200-1760227199@pirouettedanceacademy.com
SUMMARY:Calendar Raffle Donation Collection
DESCRIPTION:
URL:https://pirouettedanceacademy.com/event/calendar-raffle-donation-collection/
LOCATION:Pirouette Dance Academy\, 1706 President Avenue\, Fall River\, MA\, 02720\, United States
END:VEVENT
BEGIN:VEVENT
DTSTART;VALUE=DATE:20250902
DTEND;VALUE=DATE:20251005
DTSTAMP:20260419T235602
CREATED:20240923T133705Z
LAST-MODIFIED:20250909T200245Z
UID:10603-1756771200-1759622399@pirouettedanceacademy.com
SUMMARY:Cookie Dough Fundraiser
DESCRIPTION:Every year we do an OPTIONAL cookie dough fundraiser to help reduce the cost of costumes. You may also use your profit towards tuition. Forms will be passed out the first week and all money and forms are due by 10/4 between 8:30 AM and 1:00 PM. We will accept CASH ONLY\,(NO COINS PLEASE) no checks/cards will be accepted!!! You will receive a $10 profit for every item you sell. Top two sellers will receive a $100 bonus towards costumes/tuition to be applied directly to your account! We will be accepting cookie money during the week if one of the staff members is in the office and is free. Please be patient since we need to count all the money and verify forms when it is dropped off. Pick up will be ONLY on Friday 11/21. If you do not pick up your cookie dough on this day\, it will go bad and not be able to be handed out. If you think pick up will be a problem for you\, please consider that when participating in this fundraiser. Keep in mind\, anyone can pick up your cookie dough! \n \n 
URL:https://pirouettedanceacademy.com/event/cookie-dough-fundraiser-6/
LOCATION:Pirouette Dance Academy\, 1706 President Avenue\, Fall River\, MA\, 02720\, United States
END:VEVENT
END:VCALENDAR