BEGIN:VCALENDAR
VERSION:2.0
PRODID:-//Pirouette Dance Academy - ECPv6.15.20//NONSGML v1.0//EN
CALSCALE:GREGORIAN
METHOD:PUBLISH
X-ORIGINAL-URL:https://pirouettedanceacademy.com
X-WR-CALDESC:Events for Pirouette Dance Academy
REFRESH-INTERVAL;VALUE=DURATION:PT1H
X-Robots-Tag:noindex
X-PUBLISHED-TTL:PT1H
BEGIN:VTIMEZONE
TZID:America/New_York
BEGIN:DAYLIGHT
TZOFFSETFROM:-0500
TZOFFSETTO:-0400
TZNAME:EDT
DTSTART:20240310T070000
END:DAYLIGHT
BEGIN:STANDARD
TZOFFSETFROM:-0400
TZOFFSETTO:-0500
TZNAME:EST
DTSTART:20241103T060000
END:STANDARD
BEGIN:DAYLIGHT
TZOFFSETFROM:-0500
TZOFFSETTO:-0400
TZNAME:EDT
DTSTART:20250309T070000
END:DAYLIGHT
BEGIN:STANDARD
TZOFFSETFROM:-0400
TZOFFSETTO:-0500
TZNAME:EST
DTSTART:20251102T060000
END:STANDARD
BEGIN:DAYLIGHT
TZOFFSETFROM:-0500
TZOFFSETTO:-0400
TZNAME:EDT
DTSTART:20260308T070000
END:DAYLIGHT
BEGIN:STANDARD
TZOFFSETFROM:-0400
TZOFFSETTO:-0500
TZNAME:EST
DTSTART:20261101T060000
END:STANDARD
END:VTIMEZONE
BEGIN:VEVENT
DTSTART;VALUE=DATE:20250630
DTEND;VALUE=DATE:20250831
DTSTAMP:20260419T183047
CREATED:20250707T234658Z
LAST-MODIFIED:20250707T234658Z
UID:10811-1751241600-1756598399@pirouettedanceacademy.com
SUMMARY:Adult Summer Fitness Calendars
DESCRIPTION:
URL:https://pirouettedanceacademy.com/event/adult-summer-fitness-calendars-2/
LOCATION:Pirouette Dance Academy\, 1706 President Avenue\, Fall River\, MA\, 02720\, United States
END:VEVENT
BEGIN:VEVENT
DTSTART;VALUE=DATE:20250715
DTEND;VALUE=DATE:20250814
DTSTAMP:20260419T183047
CREATED:20250527T150504Z
LAST-MODIFIED:20250527T150504Z
UID:10783-1752537600-1755129599@pirouettedanceacademy.com
SUMMARY:Advanced/Competitive Summer Classes
DESCRIPTION:  \nAdvanced Summer Classes: \nStudio B \nTuesdays & Wednesdays \nJuly 15th-August 13th \n  \n\n\n\nTUESDAYS \nWEDNESDAYS\n\n\nHip Hop                                    4:45-5:30\nIrish SS                                     5:00-5:30\n\n\nStretch                                      5:30 – 6:15                                    \nIrish HS                                     5:30-6:00\n\n\nTechnique                                 6:15 – 7:00        \nTap                                            6:00 – 6:45\n\n\nJazz                                           7:00 – 7:45\nAcro                                          6:45 – 7:45 \n\n\n**STUDIO A OPEN FOR PRACTICE BOTH DAYS**     \nPom                                           7:45 – 8:30\n\n\n\n  \n**Students choosing to audition for our competition team must take at least 50% of the classes for each genre they wish to audition for. \nThose who choose to audition for Jazz and/or Acro must take Stretch & Technique. Advanced Acro class requires instructor approval.** \n  \nPricing \n\n\n\nRegistered for 1-2 classes per week\n$90 (one time fee due by June 28th)\n\n\nRegistered for 3-4 classes per week\n$150 (one time fee due by June 28th)\n\n\nRegistered for 5-6 classes per week\n$190 (one time fee due by June 28th)\n\n\nRegistered for 7-8 classes per week\n$250 (one time fee due by June 28th)\n\n\nRegistered for ALL classes per week\n$290 (one time fee due by June 28th)\n\n\n\n\nTentative Auditions \nTuesday\, 8/19/25 & Wednesday\, 8/20/25 \nAudition Schedule TBA \n\nTentative Comp Team Parent Meeting \nWednesday\, 8/20/25 (following last audition) \n\nRegister here: \nhttps://forms.gle/7vrtexsGVfKM4w9n7
URL:https://pirouettedanceacademy.com/event/advanced-competitive-summer-classes-2/
LOCATION:Pirouette Dance Academy\, 1706 President Avenue\, Fall River\, MA\, 02720\, United States
END:VEVENT
BEGIN:VEVENT
DTSTART;VALUE=DATE:20250731
DTEND;VALUE=DATE:20250822
DTSTAMP:20260419T183047
CREATED:20250527T150627Z
LAST-MODIFIED:20250527T150627Z
UID:10785-1753920000-1755820799@pirouettedanceacademy.com
SUMMARY:Recreational Summer Classes
DESCRIPTION:  \nRecreational Summer Class Schedule: \nStudio A & Studio B \nThursdays – 4 Week Session \nJuly 31st – August 21st  \n  \n\n\n\nSTUDIO A \nSTUDIO B  \n\n\nBeginner Ballet (Ages 3-5)          4:30 – 5:00\nPom (Ages 6 & up)                   4:30 – 5:00\n\n\nBallet & Tap (Ages 5-7)                5:00 – 5:45\nAcro (Ages 8 & up)                   5:00 – 5:45        \n\n\nBallet & Tap  (Ages 8 & up)         5:45 – 6:30\nAcro (Ages 5-7)                         5:45 – 6:15\n\n\n Hip Hop (6 & up)                         7:00 – 7:30   \nIrish  (Ages 6 & up)                   6:30 – 7:00            \n\n\n\n  \nPricing \n\n\n\nRegistered for 1-2 classes \n$75 (one time fee due by June 28th)\n\n\nRegistered for 3-4 classes\n$100 (one time fee due by June 28th)\n\n\nRegistered for 5 classes \n$120 (one time fee due by June 28th)\n\n\n\n**Please Note- Classes titled “Ballet & Tap” count as only one class**  \n\nRegister here:  \nhttps://forms.gle/ARtv94irQW2KHWvE6
URL:https://pirouettedanceacademy.com/event/recreational-summer-classes-4/
LOCATION:Pirouette Dance Academy\, 1706 President Avenue\, Fall River\, MA\, 02720\, United States
END:VEVENT
END:VCALENDAR