BEGIN:VCALENDAR
VERSION:2.0
PRODID:-//Pirouette Dance Academy - ECPv6.15.20//NONSGML v1.0//EN
CALSCALE:GREGORIAN
METHOD:PUBLISH
X-WR-CALNAME:Pirouette Dance Academy
X-ORIGINAL-URL:https://pirouettedanceacademy.com
X-WR-CALDESC:Events for Pirouette Dance Academy
REFRESH-INTERVAL;VALUE=DURATION:PT1H
X-Robots-Tag:noindex
X-PUBLISHED-TTL:PT1H
BEGIN:VTIMEZONE
TZID:America/New_York
BEGIN:DAYLIGHT
TZOFFSETFROM:-0500
TZOFFSETTO:-0400
TZNAME:EDT
DTSTART:20240310T070000
END:DAYLIGHT
BEGIN:STANDARD
TZOFFSETFROM:-0400
TZOFFSETTO:-0500
TZNAME:EST
DTSTART:20241103T060000
END:STANDARD
BEGIN:DAYLIGHT
TZOFFSETFROM:-0500
TZOFFSETTO:-0400
TZNAME:EDT
DTSTART:20250309T070000
END:DAYLIGHT
BEGIN:STANDARD
TZOFFSETFROM:-0400
TZOFFSETTO:-0500
TZNAME:EST
DTSTART:20251102T060000
END:STANDARD
BEGIN:DAYLIGHT
TZOFFSETFROM:-0500
TZOFFSETTO:-0400
TZNAME:EDT
DTSTART:20260308T070000
END:DAYLIGHT
BEGIN:STANDARD
TZOFFSETFROM:-0400
TZOFFSETTO:-0500
TZNAME:EST
DTSTART:20261101T060000
END:STANDARD
END:VTIMEZONE
BEGIN:VEVENT
DTSTART;VALUE=DATE:20250628
DTEND;VALUE=DATE:20250629
DTSTAMP:20260419T151302
CREATED:20250317T174223Z
LAST-MODIFIED:20250527T152248Z
UID:10740-1751068800-1751155199@pirouettedanceacademy.com
SUMMARY:Recital 2025
DESCRIPTION:Recital \n\nWhat: Presentation of all skills and choreography learned throughout the year.\nWhen: Saturday\, June 28th\nTime: 12:00 PM and 5:00 PM\nSame show is being performed twice and your child is REQUIRED to participate in both shows. \nAnyone that doesn’t show up to perform in the second show will not be allowed to participate in Recital 2026! \nApproximate show time is 2.5 hours.\nAwards for will be presented after the second show only.\nWhere: Somerset Berkley Regional High School\, 625 County Street\, Somerset\, MA 02726\n\nPLEASE REFER TO YOUR RECITAL PACKET FOR IMPORTANT RECITAL INFORMATION!
URL:https://pirouettedanceacademy.com/event/recital-2025/
LOCATION:Somerset-Berkley Regional High School\, 625 County Street\, Somerset\, MA\, 02726\, United States
END:VEVENT
END:VCALENDAR