BEGIN:VCALENDAR
VERSION:2.0
PRODID:-//Pirouette Dance Academy - ECPv6.15.20//NONSGML v1.0//EN
CALSCALE:GREGORIAN
METHOD:PUBLISH
X-ORIGINAL-URL:https://pirouettedanceacademy.com
X-WR-CALDESC:Events for Pirouette Dance Academy
REFRESH-INTERVAL;VALUE=DURATION:PT1H
X-Robots-Tag:noindex
X-PUBLISHED-TTL:PT1H
BEGIN:VTIMEZONE
TZID:America/New_York
BEGIN:DAYLIGHT
TZOFFSETFROM:-0500
TZOFFSETTO:-0400
TZNAME:EDT
DTSTART:20240310T070000
END:DAYLIGHT
BEGIN:STANDARD
TZOFFSETFROM:-0400
TZOFFSETTO:-0500
TZNAME:EST
DTSTART:20241103T060000
END:STANDARD
BEGIN:DAYLIGHT
TZOFFSETFROM:-0500
TZOFFSETTO:-0400
TZNAME:EDT
DTSTART:20250309T070000
END:DAYLIGHT
BEGIN:STANDARD
TZOFFSETFROM:-0400
TZOFFSETTO:-0500
TZNAME:EST
DTSTART:20251102T060000
END:STANDARD
BEGIN:DAYLIGHT
TZOFFSETFROM:-0500
TZOFFSETTO:-0400
TZNAME:EDT
DTSTART:20260308T070000
END:DAYLIGHT
BEGIN:STANDARD
TZOFFSETFROM:-0400
TZOFFSETTO:-0500
TZNAME:EST
DTSTART:20261101T060000
END:STANDARD
END:VTIMEZONE
BEGIN:VEVENT
DTSTART;TZID=America/New_York:20250626T163000
DTEND;TZID=America/New_York:20250626T200000
DTSTAMP:20260419T151638
CREATED:20250527T152020Z
LAST-MODIFIED:20250527T152020Z
UID:10789-1750955400-1750968000@pirouettedanceacademy.com
SUMMARY:Recital Dress Rehearsal
DESCRIPTION:Dress Rehearsal \n\nWhat: Full run of Recital in full costume and hair done. NO MAKE UP NEEDED. This is to ensure no wardrobe malfunctions and allow students to practice in costumes. Recital dancers ONLY.\nWhen: Thursday\, June 26th\nTime: 4:30 PM (doors open) 5:00 PM start time\nWhere: Somerset Berkley Regional High School\, 625 County Street\, Somerset\, MA 02726\n\nDress Rehearsal \n\n\n\nFULL RUN OF THE SHOW for Recital dancers ONLY\nPlease arrive by 4:30 PM and be ready in full costume and hair\, auditorium opens at 5:00PM\nUpon arrival report to the designated dressing areas and get first costume on\n\n\n\n\nReport to the auditorium once in first costume\n\n\nMust have full stage hair done (SEE PICTURES BELOW)\nMust have all pieces of costumes (props/hair pieces/shoes). \nIf your child is not “Recital Ready” they will not be able to go on stage. This includes:\n\nProper shoes\, proper tights\, all accessories (INCLUDING HAIR)\, no jewelry\, no nail/toe polish\, hair done appropriately. \n\n\nONE ADULT PER STUDENT. NO OTHER FRIENDS OR FAMILY. \nThis is a strict rehearsal and limited interruption is needed. \nNO SIBLINGS ALLOWED. PLEASE FIND A SITTER OR WAIT IN THE CAR WITH THEM.
URL:https://pirouettedanceacademy.com/event/recital-dress-rehearsal-4/
LOCATION:Somerset-Berkley Regional High School\, 625 County Street\, Somerset\, MA\, 02726\, United States
END:VEVENT
END:VCALENDAR