BEGIN:VCALENDAR
VERSION:2.0
PRODID:-//Pirouette Dance Academy - ECPv6.15.20//NONSGML v1.0//EN
CALSCALE:GREGORIAN
METHOD:PUBLISH
X-ORIGINAL-URL:https://pirouettedanceacademy.com
X-WR-CALDESC:Events for Pirouette Dance Academy
REFRESH-INTERVAL;VALUE=DURATION:PT1H
X-Robots-Tag:noindex
X-PUBLISHED-TTL:PT1H
BEGIN:VTIMEZONE
TZID:America/New_York
BEGIN:DAYLIGHT
TZOFFSETFROM:-0500
TZOFFSETTO:-0400
TZNAME:EDT
DTSTART:20240310T070000
END:DAYLIGHT
BEGIN:STANDARD
TZOFFSETFROM:-0400
TZOFFSETTO:-0500
TZNAME:EST
DTSTART:20241103T060000
END:STANDARD
BEGIN:DAYLIGHT
TZOFFSETFROM:-0500
TZOFFSETTO:-0400
TZNAME:EDT
DTSTART:20250309T070000
END:DAYLIGHT
BEGIN:STANDARD
TZOFFSETFROM:-0400
TZOFFSETTO:-0500
TZNAME:EST
DTSTART:20251102T060000
END:STANDARD
BEGIN:DAYLIGHT
TZOFFSETFROM:-0500
TZOFFSETTO:-0400
TZNAME:EDT
DTSTART:20260308T070000
END:DAYLIGHT
BEGIN:STANDARD
TZOFFSETFROM:-0400
TZOFFSETTO:-0500
TZNAME:EST
DTSTART:20261101T060000
END:STANDARD
END:VTIMEZONE
BEGIN:VEVENT
DTSTART;TZID=America/New_York:20250625T170000
DTEND;TZID=America/New_York:20250625T200000
DTSTAMP:20260419T151639
CREATED:20250527T151147Z
LAST-MODIFIED:20250527T151147Z
UID:10787-1750870800-1750881600@pirouettedanceacademy.com
SUMMARY:Recital Rehearsal
DESCRIPTION:Rehearsal \n\nWhat: Full run of Recital in class attire to help dancers get familiar with the stage. Recital dancers ONLY.\n\n\nWhen: Wednesday\, June 25th \nTime: 5:00 PM\nWhere: Somerset Berkley Regional High School\, 625 County Street\, Somerset\, MA 02726\n\nRehearsal \n\nRehearsal is open to RECITAL DANCERS ONLY\nReport to the auditorium upon arrival\nRehearsal will follow order of actual Recital \nStudents are to come in regular class dress code. \nGirls- Black Leotard/tights/shorts.\nBoys- Black T-shirt and pants. \nIf you are not in dress code\, you will not be able to perform.\nPlease bring all shoes needed.\nHair must be tied up neatly and tightly. \nONE ADULT PER STUDENT IS ALLOWED TO ATTEND. NO OTHER FRIENDS OR FAMILY \nThis is a strict rehearsal and limited interruption is needed.\nYou will need a parent pass to enter (this will be further explained)\nNO SIBLINGS ALLOWED. PLEASE FIND A SITTER OR WAIT IN THE CAR WITH THEM.
URL:https://pirouettedanceacademy.com/event/recital-rehearsal-5/
LOCATION:Somerset-Berkley Regional High School\, 625 County Street\, Somerset\, MA\, 02726\, United States
END:VEVENT
END:VCALENDAR