BEGIN:VCALENDAR
VERSION:2.0
PRODID:-//Pirouette Dance Academy - ECPv6.15.20//NONSGML v1.0//EN
CALSCALE:GREGORIAN
METHOD:PUBLISH
X-ORIGINAL-URL:https://pirouettedanceacademy.com
X-WR-CALDESC:Events for Pirouette Dance Academy
REFRESH-INTERVAL;VALUE=DURATION:PT1H
X-Robots-Tag:noindex
X-PUBLISHED-TTL:PT1H
BEGIN:VTIMEZONE
TZID:America/New_York
BEGIN:DAYLIGHT
TZOFFSETFROM:-0500
TZOFFSETTO:-0400
TZNAME:EDT
DTSTART:20230312T070000
END:DAYLIGHT
BEGIN:STANDARD
TZOFFSETFROM:-0400
TZOFFSETTO:-0500
TZNAME:EST
DTSTART:20231105T060000
END:STANDARD
BEGIN:DAYLIGHT
TZOFFSETFROM:-0500
TZOFFSETTO:-0400
TZNAME:EDT
DTSTART:20240310T070000
END:DAYLIGHT
BEGIN:STANDARD
TZOFFSETFROM:-0400
TZOFFSETTO:-0500
TZNAME:EST
DTSTART:20241103T060000
END:STANDARD
BEGIN:DAYLIGHT
TZOFFSETFROM:-0500
TZOFFSETTO:-0400
TZNAME:EDT
DTSTART:20250309T070000
END:DAYLIGHT
BEGIN:STANDARD
TZOFFSETFROM:-0400
TZOFFSETTO:-0500
TZNAME:EST
DTSTART:20251102T060000
END:STANDARD
END:VTIMEZONE
BEGIN:VEVENT
DTSTART;VALUE=DATE:20240518
DTEND;VALUE=DATE:20240519
DTSTAMP:20260420T084207
CREATED:20240430T150331Z
LAST-MODIFIED:20240430T150331Z
UID:10500-1715990400-1716076799@pirouettedanceacademy.com
SUMMARY:Recital T-Shirt Orders Due
DESCRIPTION:
URL:https://pirouettedanceacademy.com/event/recital-t-shirt-orders-due/
LOCATION:MA
END:VEVENT
BEGIN:VEVENT
DTSTART;VALUE=DATE:20240518
DTEND;VALUE=DATE:20240519
DTSTAMP:20260420T084207
CREATED:20240430T151236Z
LAST-MODIFIED:20240516T231857Z
UID:10509-1715990400-1716076799@pirouettedanceacademy.com
SUMMARY:Deadline for Recital Program Ad's & Senior Spotlights
DESCRIPTION:
URL:https://pirouettedanceacademy.com/event/deadline-for-recital-program-ads-senior-spotlights/
LOCATION:MA
END:VEVENT
BEGIN:VEVENT
DTSTART;VALUE=DATE:20240518
DTEND;VALUE=DATE:20240519
DTSTAMP:20260420T084207
CREATED:20240430T151346Z
LAST-MODIFIED:20240516T231832Z
UID:10512-1715990400-1716076799@pirouettedanceacademy.com
SUMMARY:Deadline For Recital Program Messages
DESCRIPTION:
URL:https://pirouettedanceacademy.com/event/deadline-for-recital-program-messages/
LOCATION:MA
END:VEVENT
END:VCALENDAR