BEGIN:VCALENDAR
VERSION:2.0
PRODID:-//Pirouette Dance Academy - ECPv6.15.20//NONSGML v1.0//EN
CALSCALE:GREGORIAN
METHOD:PUBLISH
X-ORIGINAL-URL:https://pirouettedanceacademy.com
X-WR-CALDESC:Events for Pirouette Dance Academy
REFRESH-INTERVAL;VALUE=DURATION:PT1H
X-Robots-Tag:noindex
X-PUBLISHED-TTL:PT1H
BEGIN:VTIMEZONE
TZID:America/New_York
BEGIN:DAYLIGHT
TZOFFSETFROM:-0500
TZOFFSETTO:-0400
TZNAME:EDT
DTSTART:20230312T070000
END:DAYLIGHT
BEGIN:STANDARD
TZOFFSETFROM:-0400
TZOFFSETTO:-0500
TZNAME:EST
DTSTART:20231105T060000
END:STANDARD
BEGIN:DAYLIGHT
TZOFFSETFROM:-0500
TZOFFSETTO:-0400
TZNAME:EDT
DTSTART:20240310T070000
END:DAYLIGHT
BEGIN:STANDARD
TZOFFSETFROM:-0400
TZOFFSETTO:-0500
TZNAME:EST
DTSTART:20241103T060000
END:STANDARD
BEGIN:DAYLIGHT
TZOFFSETFROM:-0500
TZOFFSETTO:-0400
TZNAME:EDT
DTSTART:20250309T070000
END:DAYLIGHT
BEGIN:STANDARD
TZOFFSETFROM:-0400
TZOFFSETTO:-0500
TZNAME:EST
DTSTART:20251102T060000
END:STANDARD
END:VTIMEZONE
BEGIN:VEVENT
DTSTART;TZID=America/New_York:20240105T160000
DTEND;TZID=America/New_York:20240105T170000
DTSTAMP:20260424T201523
CREATED:20240102T153602Z
LAST-MODIFIED:20240102T153602Z
UID:10417-1704470400-1704474000@pirouettedanceacademy.com
SUMMARY:Guy Groove Hip Hop Workshop
DESCRIPTION:
URL:https://pirouettedanceacademy.com/event/guy-groove-hip-hop-workshop/
LOCATION:Pirouette Dance Academy\, 1706 President Avenue\, Fall River\, MA\, 02720\, United States
END:VEVENT
END:VCALENDAR