BEGIN:VCALENDAR
VERSION:2.0
PRODID:-//Pirouette Dance Academy - ECPv6.15.20//NONSGML v1.0//EN
CALSCALE:GREGORIAN
METHOD:PUBLISH
X-ORIGINAL-URL:https://pirouettedanceacademy.com
X-WR-CALDESC:Events for Pirouette Dance Academy
REFRESH-INTERVAL;VALUE=DURATION:PT1H
X-Robots-Tag:noindex
X-PUBLISHED-TTL:PT1H
BEGIN:VTIMEZONE
TZID:America/New_York
BEGIN:DAYLIGHT
TZOFFSETFROM:-0500
TZOFFSETTO:-0400
TZNAME:EDT
DTSTART:20220313T070000
END:DAYLIGHT
BEGIN:STANDARD
TZOFFSETFROM:-0400
TZOFFSETTO:-0500
TZNAME:EST
DTSTART:20221106T060000
END:STANDARD
BEGIN:DAYLIGHT
TZOFFSETFROM:-0500
TZOFFSETTO:-0400
TZNAME:EDT
DTSTART:20230312T070000
END:DAYLIGHT
BEGIN:STANDARD
TZOFFSETFROM:-0400
TZOFFSETTO:-0500
TZNAME:EST
DTSTART:20231105T060000
END:STANDARD
BEGIN:DAYLIGHT
TZOFFSETFROM:-0500
TZOFFSETTO:-0400
TZNAME:EDT
DTSTART:20240310T070000
END:DAYLIGHT
BEGIN:STANDARD
TZOFFSETFROM:-0400
TZOFFSETTO:-0500
TZNAME:EST
DTSTART:20241103T060000
END:STANDARD
END:VTIMEZONE
BEGIN:VEVENT
DTSTART;VALUE=DATE:20230905
DTEND;VALUE=DATE:20231015
DTSTAMP:20260425T130641
CREATED:20230822T194614Z
LAST-MODIFIED:20230822T194614Z
UID:10320-1693872000-1697327999@pirouettedanceacademy.com
SUMMARY:Cookie Dough Fundraiser
DESCRIPTION:
URL:https://pirouettedanceacademy.com/event/cookie-dough-fundraiser-5/
LOCATION:Pirouette Dance Academy\, 1706 President Avenue\, Fall River\, MA\, 02720\, United States
END:VEVENT
BEGIN:VEVENT
DTSTART;TZID=America/New_York:20230917T090000
DTEND;TZID=America/New_York:20230917T103000
DTSTAMP:20260425T130641
CREATED:20230822T195036Z
LAST-MODIFIED:20230822T195036Z
UID:10325-1694941200-1694946600@pirouettedanceacademy.com
SUMMARY:Bay State Workshop (Competitive Acro Students Only)
DESCRIPTION:
URL:https://pirouettedanceacademy.com/event/bay-state-workshop-competitive-acro-students-only/
LOCATION:Bay State Gymnastics Academy\, 24 Ventura Drive\, North Dartmouth\, MA\, 02747\, United States
END:VEVENT
END:VCALENDAR